BEGIN:VCALENDAR
VERSION:2.0
PRODID:-//hacksw/handcal//NONSGML v1.0//EN
CALSCALE:GREGORIAN
BEGIN:VEVENT
ORGANIZER;CN=H. Lundbeckas A/S:MAILTO:no-reply@nasdaq.com
DTEND:
UID:09cfab4f-090f-4b89-8075-19bc0b66dc75
DTSTAMP:1530503483
LOCATION:http://investor.lundbeck.com/events/event-details/financial-statements-first-six-months-2018
DESCRIPTION:Event Details http://investor.lundbeck.com/events/event-details/financial-statements-first-six-months-2018
URL;VALUE=URI:http://investor.lundbeck.com/events/event-details/financial-statements-first-six-months-2018
SUMMARY:H. Lundbeckas A/S - Financial statements for the first six months of 2018 
DTSTART:20180808T040000Z
END:VEVENT
END:VCALENDAR