BEGIN:VCALENDAR
VERSION:2.0
PRODID:-//hacksw/handcal//NONSGML v1.0//EN
CALSCALE:GREGORIAN
BEGIN:VEVENT
ORGANIZER;CN=H. Lundbeckas A/S:MAILTO:no-reply@nasdaq.com
DTEND:
UID:9c6b1857-b0cb-4899-9649-506b8f9c05d7
DTSTAMP:1530503480
LOCATION:http://investor.lundbeck.com/events/event-details/financial-statements-first-nine-months-2018
DESCRIPTION:Event Details http://investor.lundbeck.com/events/event-details/financial-statements-first-nine-months-2018
URL;VALUE=URI:http://investor.lundbeck.com/events/event-details/financial-statements-first-nine-months-2018
SUMMARY:H. Lundbeckas A/S - Financial statements for the first nine months of 2018
DTSTART:20181107T050000Z
END:VEVENT
END:VCALENDAR